Felt | Verdi |
AlreadyApplied | True |
Aperture | 8.0 |
ApertureValue | 8.0 |
ApproximateFocusDistance | 4.47 |
AutoLateralCA | 0 |
BitsPerSample | 8 |
Blacks2012 | 0 |
BlueHue | 0 |
BlueSaturation | 0 |
CameraProfile | Adobe Standard |
CircleOfConfusion | 0.029 mm |
Clarity2012 | +32 |
ColorComponents | 3 |
ColorNoiseReduction | 25 |
ColorNoiseReductionDetail | 50 |
ColorTemperature | 6200 |
ColorTransform | YCbCr |
Contrast2012 | 0 |
ConvertToGrayscale | False |
CreateDate (1) | 2014:09:15 21:07:41.11 |
CreateDate | 2014:09:15 21:07:41 |
CreatorTool | Adobe Photoshop Lightroom 4.4 (Macintosh) |
CropAngle | -0.926449 |
CropBottom | 0.976352 |
CropConstrainToWarp | 0 |
CropHeight | 3749 |
CropLeft | 0.006258 |
CropRight | 0.991706 |
CropTop | 0.023648 |
CropUnit | pixels |
CropWidth | 5617 |
CustomRendered | Normal |
DateCreated (1) | 2014:09:15 |
DateCreated | 2014:09:15 21:07:41.11 |
DateTimeOriginal | 2014:09:15 21:07:41 |
DefringeGreenAmount | 0 |
DefringeGreenHueHi | 60 |
DefringeGreenHueLo | 40 |
DefringePurpleAmount | 0 |
DefringePurpleHueHi | 70 |
DefringePurpleHueLo | 30 |
DOF | 6.21 m (2.96 - 9.17 m) |
Exposure2012 | +0.35 |
ExposureCompensation | +1/3 |
ExposureMode | Auto |
ExposureProgram | Aperture-priority AE |
ExposureTime | 1/125 |
Firmware | 1.1.3 |
Flash | Off, Did not fire |
FlashCompensation | 0 |
FNumber | 8.0 |
FocalLength | 45.0 mm |
FocalLength35efl | 45.0 mm (35 mm equivalent: 46.1 mm) |
Format | image/jpeg |
FOV | 42.6 deg |
GradientBasedCorrActive | true |
GradientBasedCorrAmount | 1.000000 |
GradientBasedCorrBrightness (2) | -0.000826 |
GradientBasedCorrBrightness | -0.053768 |
GradientBasedCorrClarity2012 (1) | -0.149962 |
GradientBasedCorrClarity2012 (2) | 0.151359 |
GradientBasedCorrClarity2012 (3) | 0.342739 |
GradientBasedCorrClarity2012 (4) | 0.738143 |
GradientBasedCorrClarity2012 | 0.050000 |
GradientBasedCorrContrast2012 (1) | 0.027022 |
GradientBasedCorrContrast2012 | 0.000000 |
GradientBasedCorrDefringe | 0.000000 |
GradientBasedCorrExposure2012 (1) | -0.163046 |
GradientBasedCorrExposure2012 (2) | 0.346735 |
GradientBasedCorrExposure2012 (3) | -0.056893 |
GradientBasedCorrExposure2012 (4) | 0.000000 |
GradientBasedCorrExposure2012 (5) | -0.120037 |
GradientBasedCorrExposure2012 | -0.069301 |
GradientBasedCorrHighlights2012 (2) | 0.043826 |
GradientBasedCorrHighlights2012 | -0.023070 |
GradientBasedCorrHue (2) | 0.000000 |
GradientBasedCorrHue | 182.729996 |
GradientBasedCorrLuminanceNoise | 0.000000 |
GradientBasedCorrMaskFullX (1) | 0.472333 |
GradientBasedCorrMaskFullX (2) | 0.490551 |
GradientBasedCorrMaskFullX (3) | 0.375862 |
GradientBasedCorrMaskFullX (4) | 0.457747 |
GradientBasedCorrMaskFullX (5) | 0.482451 |
GradientBasedCorrMaskFullX | -0.015645 |
GradientBasedCorrMaskFullY (1) | -0.000072 |
GradientBasedCorrMaskFullY (2) | 1.010590 |
GradientBasedCorrMaskFullY (3) | 0.015953 |
GradientBasedCorrMaskFullY (4) | 0.992206 |
GradientBasedCorrMaskFullY (5) | 0.991309 |
GradientBasedCorrMaskFullY | 0.277831 |
GradientBasedCorrMaskValue | 1.000000 |
GradientBasedCorrMaskWhat | Mask/Gradient |
GradientBasedCorrMaskZeroX (1) | 0.469974 |
GradientBasedCorrMaskZeroX (2) | 0.480791 |
GradientBasedCorrMaskZeroX (3) | 0.384714 |
GradientBasedCorrMaskZeroX (4) | 0.452434 |
GradientBasedCorrMaskZeroX (5) | 0.481453 |
GradientBasedCorrMaskZeroX | 0.201263 |
GradientBasedCorrMaskZeroY (1) | 0.631185 |
GradientBasedCorrMaskZeroY (2) | 0.489748 |
GradientBasedCorrMaskZeroY (3) | 0.545168 |
GradientBasedCorrMaskZeroY (4) | 0.676218 |
GradientBasedCorrMaskZeroY (5) | 0.885880 |
GradientBasedCorrMaskZeroY | 0.550817 |
GradientBasedCorrMoire | 0.000000 |
GradientBasedCorrSaturation (3) | -0.031695 |
GradientBasedCorrSaturation (5) | 0.000000 |
GradientBasedCorrSaturation | 0.010703 |
GradientBasedCorrShadows2012 (2) | 0.004687 |
GradientBasedCorrShadows2012 | 0.026654 |
GradientBasedCorrSharpness | 0.000000 |
GradientBasedCorrTemperature (1) | 0.000000 |
GradientBasedCorrTemperature | 0.003033 |
GradientBasedCorrTint | 0.000000 |
GradientBasedCorrWhat | Correction |
GrainAmount | 0 |
GreenHue | 0 |
GreenSaturation | 0 |
HasCrop | True |
HasExtendedXMP | 64FB79143F7C1CE91A5408AF7996D09D |
HasSettings | True |
Highlights2012 | -53 |
HueAdjustmentAqua | 0 |
HueAdjustmentBlue | 0 |
HueAdjustmentGreen | 0 |
HueAdjustmentMagenta | 0 |
HueAdjustmentOrange | 0 |
HueAdjustmentPurple | 0 |
HueAdjustmentRed | 0 |
HueAdjustmentYellow | 0 |
HyperfocalDistance | 8.64 m |
ImageHeight | 3749 |
ImageNumber | 0 |
ImageSize | 5617x3749 |
ImageWidth | 5617 |
ISO | 800 |
Lens | EF24-105mm f/4L IS USM |
LensID (1) | 237 |
LensID | Canon EF 24-105mm f/4L IS USM |
LensInfo | 24-105mm f/? |
LensManualDistortionAmount | 0 |
LensModel | EF24-105mm f/4L IS USM |
LensProfileEnable | 0 |
LensProfileSetup | LensDefaults |
LensSerialNumber | 00001358b7 |
LightValue | 10.0 |
LuminanceAdjustmentAqua | 0 |
LuminanceAdjustmentBlue | 0 |
LuminanceAdjustmentGreen | 0 |
LuminanceAdjustmentMagenta | 0 |
LuminanceAdjustmentOrange | 0 |
LuminanceAdjustmentPurple | 0 |
LuminanceAdjustmentRed | 0 |
LuminanceAdjustmentYellow | 0 |
LuminanceSmoothing | 0 |
Make | Canon |
MaxApertureValue | 4.0 |
Megapixels | 21.1 |
MeteringMode | Multi-segment |
Model | Canon EOS 5D Mark III |
ModifyDate (1) | 2015:05:27 09:43:37+02:00 |
ModifyDate | 2015:05:27 09:43:37 |
PaintCorrectionActive | true |
PaintCorrectionAmount | 1.000000 |
PaintCorrectionBrightness (2) | -0.000826 |
PaintCorrectionBrightness (5) | -0.020604 |
PaintCorrectionBrightness | -0.053768 |
PaintCorrectionClarity2012 (1) | 0.522104 |
PaintCorrectionClarity2012 (2) | 0.040269 |
PaintCorrectionClarity2012 (3) | -0.035633 |
PaintCorrectionClarity2012 (5) | 0.019160 |
PaintCorrectionClarity2012 | 0.050000 |
PaintCorrectionContrast2012 (3) | 0.027022 |
PaintCorrectionContrast2012 | 0.000000 |
PaintCorrectionDefringe | 0.000000 |
PaintCorrectionExposure2012 (1) | 0.244220 |
PaintCorrectionExposure2012 (2) | 0.185849 |
PaintCorrectionExposure2012 (3) | -0.325838 |
PaintCorrectionExposure2012 (4) | 0.097243 |
PaintCorrectionExposure2012 (5) | 0.063603 |
PaintCorrectionExposure2012 (6) | 0.037224 |
PaintCorrectionExposure2012 (7) | 0.126103 |
PaintCorrectionExposure2012 (9) | 0.073438 |
PaintCorrectionExposure2012 | -0.069301 |
PaintCorrectionHighlights2012 (2) | 0.043826 |
PaintCorrectionHighlights2012 (5) | -0.008840 |
PaintCorrectionHighlights2012 | -0.023070 |
PaintCorrectionHue (2) | 0.000000 |
PaintCorrectionHue | 182.729996 |
PaintCorrectionLuminanceNoise | 0.000000 |
PaintCorrectionMaskCenterWeight (7) | 0.031844 |
PaintCorrectionMaskCenterWeight | 0.000000 |
PaintCorrectionMaskFlow (4) | 0.580388 |
PaintCorrectionMaskFlow | 1.000000 |
PaintCorrectionMaskRadius (1) | 0.023885 |
PaintCorrectionMaskRadius (12) | 0.036360 |
PaintCorrectionMaskRadius (13) | 0.055225 |
PaintCorrectionMaskRadius (14) | 0.018687 |
PaintCorrectionMaskRadius (17) | 0.011000 |
PaintCorrectionMaskRadius (2) | 0.067207 |
PaintCorrectionMaskRadius (21) | 0.012872 |
PaintCorrectionMaskRadius (3) | 0.035725 |
PaintCorrectionMaskRadius (30) | 0.007355 |
PaintCorrectionMaskRadius (36) | 0.002136 |
PaintCorrectionMaskRadius (38) | 0.005582 |
PaintCorrectionMaskRadius (5) | 0.012477 |
PaintCorrectionMaskRadius (65) | 0.003843 |
PaintCorrectionMaskRadius (66) | 0.009161 |
PaintCorrectionMaskRadius (7) | 0.018127 |
PaintCorrectionMaskRadius (8) | 0.012069 |
PaintCorrectionMaskRadius (9) | 0.008587 |
PaintCorrectionMaskRadius | 0.047123 |
PaintCorrectionMaskValue (35) | 0.000000 |
PaintCorrectionMaskValue (5) | 0.520833 |
PaintCorrectionMaskValue | 1.000000 |
PaintCorrectionMaskWhat | Mask/Paint |
PaintCorrectionMoire | 0.000000 |
PaintCorrectionSaturation (1) | -0.031695 |
PaintCorrectionSaturation (10) | 0.004101 |
PaintCorrectionSaturation (11) | 0.000000 |
PaintCorrectionSaturation | 0.010703 |
PaintCorrectionShadows2012 (1) | 0.004687 |
PaintCorrectionShadows2012 (2) | 0.547129 |
PaintCorrectionShadows2012 (3) | 0.036585 |
PaintCorrectionShadows2012 (4) | 0.163051 |
PaintCorrectionShadows2012 (5) | 0.010214 |
PaintCorrectionShadows2012 | 0.026654 |
PaintCorrectionSharpness | 0.000000 |
PaintCorrectionTemperature (1) | 0.000000 |
PaintCorrectionTemperature (5) | 0.001162 |
PaintCorrectionTemperature | 0.003033 |
PaintCorrectionTint | 0.000000 |
PaintCorrectionWhat | Correction |
ParametricDarks | -65 |
ParametricHighlights | 0 |
ParametricHighlightSplit | 75 |
ParametricLights | 0 |
ParametricMidtoneSplit | 50 |
ParametricShadows | +2 |
ParametricShadowSplit | 25 |
PerspectiveHorizontal | 0 |
PerspectiveRotate | 0.0 |
PerspectiveScale | 100 |
PerspectiveVertical | 0 |
PostCropVignetteAmount | 0 |
ProcessVersion | 6.7 |
ProfileDescription | sRGB IEC61966-2.1 |
RecommendedExposureIndex | 800 |
RedHue | 0 |
RedSaturation | 0 |
Saturation | +18 |
SaturationAdjustmentAqua | 0 |
SaturationAdjustmentBlue | 0 |
SaturationAdjustmentGreen | 0 |
SaturationAdjustmentMagenta | 0 |
SaturationAdjustmentOrange | 0 |
SaturationAdjustmentPurple | 0 |
SaturationAdjustmentRed | 0 |
SaturationAdjustmentYellow | 0 |
ScaleFactor35efl | 1.0 |
SceneCaptureType | Standard |
SensitivityType | Recommended Exposure Index |
SerialNumber | 053024006446 |
Shadows2012 | 0 |
ShadowTint | 0 |
SharpenDetail | 25 |
SharpenEdgeMasking | 0 |
SharpenRadius | +1.0 |
Sharpness | 25 |
ShutterSpeed | 1/125 |
ShutterSpeedValue | 1/125 |
Software | Adobe Photoshop Lightroom 4.4 (Macintosh) |
SplitToningBalance | 0 |
SplitToningHighlightHue | 0 |
SplitToningHighlightSaturation | 0 |
SplitToningShadowHue | 0 |
SplitToningShadowSaturation | 0 |
Tint | -3 |
ToneCurveName2012 | Linear |
ToneCurvePV2012 | 0, 0, 255, 255 |
ToneCurvePV2012Blue | 0, 0, 255, 255 |
ToneCurvePV2012Green | 0, 0, 255, 255 |
ToneCurvePV2012Red | 0, 0, 255, 255 |
Version | 7.4 |
Vibrance | 0 |
VignetteAmount | 0 |
WhiteBalance (1) | As Shot |
WhiteBalance | Auto |
Whites2012 | 0 |