Felt | Verdi |
AlreadyApplied | True |
Aperture | 2.8 |
ApertureValue | 2.8 |
ApproximateFocusDistance | 4294967295 |
Artist | Lisbeth Simensen |
AutoLateralCA | 0 |
BitsPerSample | 8 |
Blacks2012 | +74 |
BlueHue | 0 |
BlueSaturation | 0 |
By-line | Lisbeth Simensen |
CameraProfile | Adobe Standard |
CircleOfConfusion | 0.005 mm |
Clarity2012 | +43 |
ColorComponents | 3 |
ColorMode | RGB |
ColorNoiseReduction | 25 |
ColorNoiseReductionDetail | 50 |
ColorNoiseReductionSmoothness | 50 |
ColorSpace | sRGB |
ColorTemperature | 7900 |
ColorTransform | YCbCr |
Contrast2012 | +48 |
ConvertToGrayscale | False |
Copyright | Lisbeth Simensen Rustadsaga 856 0693 Oslo tlf:97622146 |
CopyrightNotice | Lisbeth Simensen Rustadsaga 856 0693 Oslo tlf:97622146 |
CreateDate (1) | 2020:09:03 19:52:26+02:00 |
CreateDate | 2020:09:03 19:52:26 |
Creator | Lisbeth Simensen |
CustomRendered | Normal |
DateCreated (1) | 2020:09:03 |
DateCreated | 2020:09:03 19:52:26.006 |
DateTimeOriginal | 2020:09:03 19:52:26 |
DefringeGreenAmount | 0 |
DefringeGreenHueHi | 60 |
DefringeGreenHueLo | 40 |
DefringePurpleAmount | 0 |
DefringePurpleHueHi | 70 |
DefringePurpleHueLo | 30 |
Dehaze | 0 |
DOF | inf (63.76 m - inf) |
ExifImageHeight | 728 |
ExifImageWidth | 1143 |
Exposure2012 | 0.00 |
ExposureCompensation | 0 |
ExposureMode | Manual |
ExposureProgram | Manual |
ExposureTime | 1/13 |
Firmware | 1.0.4 |
Flash | Off, Did not fire |
FlashCompensation | 0 |
FNumber | 2.8 |
FocalLength | 30.0 mm |
FocalLength35efl | 30.0 mm (35 mm equivalent: 178.8 mm) |
Format | image/jpeg |
FOV | 11.5 deg |
GPSAltitude (1) | 4.6 m |
GPSAltitude | 4.6 m Below Sea Level |
GPSAltitudeRef | Below Sea Level |
GPSDateStamp | 2020:09:03 |
GPSDateTime | 2020:09:03 18:53:33.899Z |
GPSDOP | 2.5 |
GPSLatitude (1) | 63 deg 25' 41.95" |
GPSLatitude | 63 deg 25' 41.95" N |
GPSLatitudeRef | North |
GPSLongitude (1) | 10 deg 24' 3.44" |
GPSLongitude | 10 deg 24' 3.44" E |
GPSLongitudeRef | East |
GPSMapDatum | WGS-84 |
GPSMeasureMode | 3-Dimensional Measurement |
GPSPosition | 63 deg 25' 41.95" N, 10 deg 24' 3.44" E |
GPSSatellites | 8 |
GPSStatus | Measurement Active |
GPSTimeStamp | 18:53:33.899 |
GPSVersionID | 2.3.0.0 |
GrainAmount | 0 |
GreenHue | 0 |
GreenSaturation | 0 |
HasCrop | False |
HasSettings | True |
Highlights2012 | -64 |
HueAdjustmentAqua | 0 |
HueAdjustmentBlue | 0 |
HueAdjustmentGreen | 0 |
HueAdjustmentMagenta | 0 |
HueAdjustmentOrange | 0 |
HueAdjustmentPurple | 0 |
HueAdjustmentRed | 0 |
HueAdjustmentYellow | 0 |
HyperfocalDistance | 63.76 m |
ICCProfileName | sRGB IEC61966-2.1 |
ImageHeight | 728 |
ImageNumber | 0 |
ImageSize | 1143x728 |
ImageWidth | 1143 |
ISO | 1600 |
Lens | EF24-70mm f/2.8L USM |
LensID (1) | 230 |
LensID | Canon EF 24-70mm f/2.8L USM |
LensInfo | 24-70mm f/? |
LensManualDistortionAmount | 0 |
LensModel | EF24-70mm f/2.8L USM |
LensProfileEnable | 0 |
LensProfileSetup | LensDefaults |
LensSerialNumber | 0000000000 |
LightValue | 2.7 |
LookAmount | 1.000000 |
LookCopyright | © 2018 Adobe Systems, Inc. |
LookGroup | Profiles |
LookName | Adobe Landscape |
LookParametersCameraProfile | Adobe Standard |
LookParametersClarity2012 | +10 |
LookParametersConvertToGrayscale | False |
LookParametersHighlights2012 | -12 |
LookParametersLookTable | 0B3BFB5CFB7DBF7FF175E98F24D316B0 |
LookParametersProcessVersion | 11.0 |
LookParametersShadows2012 | +12 |
LookParametersToneCurvePV2012 | 0, 0, 64, 60, 128, 128, 192, 196, 255, 255 |
LookParametersVersion | 11.1 |
LookSupportsAmount | false |
LookSupportsMonochrome | false |
LookSupportsOutputReferred | false |
LuminanceAdjustmentAqua | 0 |
LuminanceAdjustmentBlue | 0 |
LuminanceAdjustmentGreen | 0 |
LuminanceAdjustmentMagenta | 0 |
LuminanceAdjustmentOrange | 0 |
LuminanceAdjustmentPurple | 0 |
LuminanceAdjustmentRed | 0 |
LuminanceAdjustmentYellow | 0 |
LuminanceSmoothing | 0 |
Make | Canon |
MaxApertureValue | 2.8 |
Megapixels | 0.832 |
MeteringMode | Multi-segment |
Model | Canon EOS 5D Mark IV |
ModifyDate (1) | 2020:09:05 21:26:17+02:00 |
ModifyDate | 2020:09:05 21:26:17 |
Orientation | Horizontal (normal) |
OverrideLookVignette | False |
ParametricDarks | 0 |
ParametricHighlights | 0 |
ParametricHighlightSplit | 75 |
ParametricLights | 0 |
ParametricMidtoneSplit | 50 |
ParametricShadows | 0 |
ParametricShadowSplit | 25 |
PerspectiveAspect | 0 |
PerspectiveHorizontal | 0 |
PerspectiveRotate | 0.0 |
PerspectiveScale | 100 |
PerspectiveUpright | 0 |
PerspectiveVertical | 0 |
PerspectiveX | 0.00 |
PerspectiveY | 0.00 |
PostCropVignetteAmount | 0 |
ProcessVersion | 11.0 |
ProfileDescription | sRGB IEC61966-2.1 |
Rating | 0 |
RawFileName | 532A6247.CR2 |
RecommendedExposureIndex | 1600 |
RedHue | 0 |
RedSaturation | 0 |
Rights | Lisbeth Simensen Rustadsaga 856 0693 Oslo tlf:97622146 |
Saturation | 0 |
SaturationAdjustmentAqua | 0 |
SaturationAdjustmentBlue | 0 |
SaturationAdjustmentGreen | 0 |
SaturationAdjustmentMagenta | 0 |
SaturationAdjustmentOrange | 0 |
SaturationAdjustmentPurple | 0 |
SaturationAdjustmentRed | 0 |
SaturationAdjustmentYellow | 0 |
ScaleFactor35efl | 6.0 |
SceneCaptureType | Standard |
SensitivityType | Recommended Exposure Index |
SerialNumber | 133055001832 |
Shadows2012 | 0 |
ShadowTint | 0 |
SharpenDetail | 25 |
SharpenEdgeMasking | 0 |
SharpenRadius | +1.0 |
Sharpness | 40 |
ShutterSpeed | 1/13 |
ShutterSpeedValue | 1/13 |
Software | Adobe Photoshop Elements 17.0 (Macintosh) |
SplitToningBalance | 0 |
SplitToningHighlightHue | 0 |
SplitToningHighlightSaturation | 0 |
SplitToningShadowHue | 0 |
SplitToningShadowSaturation | 0 |
Tint | +10 |
ToneCurve | 0, 0, 32, 22, 64, 56, 128, 128, 192, 196, 255, 255 |
ToneCurveBlue | 0, 0, 255, 255 |
ToneCurveGreen | 0, 0, 255, 255 |
ToneCurveName | Medium Contrast |
ToneCurveName2012 | Linear |
ToneCurvePV2012 | 0, 0, 255, 255 |
ToneCurvePV2012Blue | 0, 0, 255, 255 |
ToneCurvePV2012Green | 0, 0, 255, 255 |
ToneCurvePV2012Red | 0, 0, 255, 255 |
ToneCurveRed | 0, 0, 255, 255 |
ToneMapStrength | 0 |
URL_List | |
Version | 11.1 |
Vibrance | 0 |
VignetteAmount | 0 |
WhiteBalance (1) | Custom |
WhiteBalance | Auto |
Whites2012 | -100 |