Felt | Verdi |
AdobeWhiteLevel | 31784 |
AlreadyApplied | True |
Aperture | 2.8 |
ApertureValue | 2.8 |
ApproximateFocusDistance | 7.5 |
Artist | Gunnar Liland |
AutoLateralCA | 0 |
BitsPerSample (1) | 16 16 16 |
BitsPerSample | 8 |
Blacks2012 | 0 |
BlueHue | 0 |
BlueSaturation | 0 |
By-line | Gunnar Liland |
CameraProfile | Adobe Standard |
CFAPattern | [Red,Green][Green,Blue] |
CircleOfConfusion | 0.030 mm |
Clarity2012 | 0 |
ColorComponents | 3 |
ColorGradeBlending | 50 |
ColorGradeGlobalHue | 0 |
ColorGradeGlobalLum | 0 |
ColorGradeGlobalSat | 0 |
ColorGradeHighlightLum | 0 |
ColorGradeMidtoneHue | 0 |
ColorGradeMidtoneLum | 0 |
ColorGradeMidtoneSat | 0 |
ColorGradeShadowLum | 0 |
ColorMode | RGB |
ColorNoiseReduction | 0 |
ColorSpace | sRGB |
ColorTemperature | 5300 |
ColorTransform | YCbCr |
Contrast | Normal |
Contrast2012 | 0 |
CopyrightFlag | True |
CreateDate | 2021:07:03 12:45:48 |
Creator | Gunnar Liland |
CreatorAddress | Granveien 20 |
CreatorCity | Egersund |
CreatorCountry | Norway |
CreatorPostalCode | 4371 |
CreatorRegion | Rogaland |
CreatorTool | DxO PhotoLab 4.3.1 |
CreatorWorkEmail | gunnar.liland@gmail.com |
CreatorWorkTelephone | 4745411855 |
CreatorWorkURL | https://gunnarliland.smugmug.com/ |
CropAngle | 0 |
CropBottom | 0.844439 |
CropConstrainToWarp | 0 |
CropLeft | 0.101883 |
CropRight | 0.8092 |
CropTop | 0.123748 |
CustomRendered | Normal |
DateCreated (1) | 2021:07:03 |
DateCreated | 2021:07:03 12:45:48.068 |
DateTimeOriginal | 2021:07:03 12:45:48 |
DefringeGreenAmount | 0 |
DefringeGreenHueHi | 60 |
DefringeGreenHueLo | 40 |
DefringePurpleAmount | 0 |
DefringePurpleHueHi | 70 |
DefringePurpleHueLo | 30 |
Dehaze | 0 |
DigitalZoomRatio | 1 |
DOF | 1.95 m (6.65 - 8.60 m) |
ExifImageHeight | 868 |
ExifImageWidth | 1280 |
Exposure2012 | 0.00 |
ExposureCompensation | -2/3 |
ExposureMode | Auto |
ExposureProgram | Aperture-priority AE |
ExposureTime | 1/8000 |
Flash | No Flash |
FNumber | 2.8 |
FocalLength | 70.0 mm |
FocalLength35efl | 70.0 mm (35 mm equivalent: 70.0 mm) |
FocalLengthIn35mmFormat | 70 mm |
Format | image/jpeg |
FOV | 28.8 deg |
GainControl | Low gain up |
GradientBasedCorrActive | true |
GradientBasedCorrAmount | 1.000000 |
GradientBasedCorrBrightness | 0.000000 |
GradientBasedCorrClarity | 0.000000 |
GradientBasedCorrClarity2012 | 0.467630 |
GradientBasedCorrContrast | 0.000000 |
GradientBasedCorrContrast2012 | 0.021580 |
GradientBasedCorrCorrectionRangeMaskColorAmount | 0.500000 |
GradientBasedCorrCorrectionRangeMaskDepthFeather | 0.500000 |
GradientBasedCorrCorrectionRangeMaskDepthMax | 1.000000 |
GradientBasedCorrCorrectionRangeMaskDepthMin | 0.000000 |
GradientBasedCorrCorrectionRangeMaskLumFeather | 0.500000 |
GradientBasedCorrCorrectionRangeMaskLumMax | 1.000000 |
GradientBasedCorrCorrectionRangeMaskLumMin | 0.488372 |
GradientBasedCorrCorrectionRangeMaskType | +2 |
GradientBasedCorrCorrectionRangeMaskVersion | +2 |
GradientBasedCorrDefringe | 0.000000 |
GradientBasedCorrExposure | 0.000000 |
GradientBasedCorrExposure2012 | 0.000000 |
GradientBasedCorrHighlights2012 | 0.000000 |
GradientBasedCorrHue | 240.000000 |
GradientBasedCorrLocalBlacks2012 | 0.000000 |
GradientBasedCorrLocalDehaze | 0.309350 |
GradientBasedCorrLocalHue | 0.000000 |
GradientBasedCorrLocalTexture | -0.107910 |
GradientBasedCorrLocalWhites2012 | 0.000000 |
GradientBasedCorrLuminanceNoise | 0.000000 |
GradientBasedCorrMaskFullX | 0.462318 |
GradientBasedCorrMaskFullY | 0.591631 |
GradientBasedCorrMaskValue | 1.000000 |
GradientBasedCorrMaskWhat | Mask/Gradient |
GradientBasedCorrMaskZeroX | 0.462318 |
GradientBasedCorrMaskZeroY | 0.692754 |
GradientBasedCorrMoire | 0.000000 |
GradientBasedCorrSaturation | 0.000000 |
GradientBasedCorrShadows2012 | 0.000000 |
GradientBasedCorrSharpness | 0.000000 |
GradientBasedCorrTemperature | 0.000000 |
GradientBasedCorrTint | 0.000000 |
GradientBasedCorrWhat | Correction |
GrainAmount | 0 |
GrayMixerAqua | 0 |
GrayMixerBlue | 0 |
GrayMixerGreen | 0 |
GrayMixerMagenta | 0 |
GrayMixerOrange | 0 |
GrayMixerPurple | 0 |
GrayMixerRed | 0 |
GrayMixerYellow | 0 |
GreenHue | 0 |
GreenSaturation | 0 |
HasCrop | True |
HasSettings | True |
Highlights2012 | 0 |
HueAdjustmentAqua | 0 |
HueAdjustmentBlue | 0 |
HueAdjustmentGreen | 0 |
HueAdjustmentMagenta | 0 |
HueAdjustmentOrange | 0 |
HueAdjustmentPurple | 0 |
HueAdjustmentRed | 0 |
HueAdjustmentYellow | 0 |
HyperfocalDistance | 58.24 m |
ICCProfileName | sRGB IEC61966-2.1 |
ImageHeight (1) | 2041 |
ImageHeight | 868 |
ImageNumber | 30118 |
ImageSize | 1280x868 |
ImageWidth (1) | 3010 |
ImageWidth | 1280 |
ISO | 800 |
Label | Optimized Master File |
Lens | TAMRON SP 24-70mm F/2.8 Di VC USD G2 A032N |
LensID (1) | 206 |
LensID | Tamron SP 24-70mm f/2.8 Di VC USD G2 (A032) |
LensInfo | 24-70mm f/2.8 |
LensManualDistortionAmount | 0 |
LensModel | TAMRON SP 24-70mm F/2.8 Di VC USD G2 A032N |
LensProfileEnable | 0 |
LightSource | Unknown |
LightValue | 12.9 |
LookAmount | 1.000000 |
LookCluster | Adobe |
LookGroup | B&W |
LookName | B&W Red Filter |
LookParametersClarity2012 | +8 |
LookParametersContrast2012 | +8 |
LookParametersConvertToGrayscale | True |
LookParametersGrayMixerAqua | 0 |
LookParametersGrayMixerBlue | 0 |
LookParametersGrayMixerGreen | 0 |
LookParametersGrayMixerMagenta | 0 |
LookParametersGrayMixerOrange | 0 |
LookParametersGrayMixerPurple | 0 |
LookParametersGrayMixerRed | 0 |
LookParametersGrayMixerYellow | 0 |
LookParametersLookTable | 4B8409B5C28DBB2A31062273667C5581 |
LookParametersProcessVersion | 11.0 |
LookParametersToneCurvePV2012 | 0, 0, 29, 25, 128, 128, 192, 196, 255, 255 |
LookParametersToneCurvePV2012Blue | 0, 0, 255, 255 |
LookParametersToneCurvePV2012Green | 0, 0, 255, 255 |
LookParametersToneCurvePV2012Red | 0, 0, 255, 255 |
LookParametersVersion | 13.3 |
LookSortName | B&W 55 |
LookSupportsMonochrome | false |
LuminanceAdjustmentAqua | 0 |
LuminanceAdjustmentBlue | 0 |
LuminanceAdjustmentGreen | 0 |
LuminanceAdjustmentMagenta | 0 |
LuminanceAdjustmentOrange | 0 |
LuminanceAdjustmentPurple | 0 |
LuminanceAdjustmentRed | 0 |
LuminanceAdjustmentYellow | 0 |
LuminanceSmoothing | 0 |
Make | NIKON CORPORATION |
Marked | True |
MaxApertureValue | 2.8 |
Megapixels | 1.1 |
MeteringMode | Multi-segment |
Model | NIKON D700 |
ModifyDate (1) | 2021:09:27 17:52:57+02:00 |
ModifyDate | 2021:09:27 17:52:57 |
Orientation | Horizontal (normal) |
OverrideLookVignette | False |
ParametricDarks | 0 |
ParametricHighlights | 0 |
ParametricHighlightSplit | 75 |
ParametricLights | 0 |
ParametricMidtoneSplit | 50 |
ParametricShadows | 0 |
ParametricShadowSplit | 25 |
PerspectiveAspect | 0 |
PerspectiveHorizontal | 0 |
PerspectiveRotate | 0.0 |
PerspectiveScale | 100 |
PerspectiveUpright | 0 |
PerspectiveVertical | 0 |
PerspectiveX | 0.00 |
PerspectiveY | 0.00 |
PhotometricInterpretation | RGB |
PlanarConfiguration | Chunky |
PostCropVignetteAmount | 0 |
PreservedFileName | 700_9069.NEF |
ProcessVersion | 11.0 |
ProfileDescription | sRGB IEC61966-2.1 |
RangeMaskMapInfoRangeMaskMapInfoLabMax | 1.000000 0.510491 0.546242 |
RangeMaskMapInfoRangeMaskMapInfoLabMin | 0.000275 0.477394 0.405554 |
RangeMaskMapInfoRangeMaskMapInfoRGBMax | 0.434150 0.439246 0.491463 |
RangeMaskMapInfoRangeMaskMapInfoRGBMin | 0.005722 0.005005 0.004974 |
Rating | 2 |
RawFileName | 700_9069_DxO-Edit.TIF |
RedHue | 0 |
RedSaturation | 0 |
SamplesPerPixel | 3 |
Saturation (1) | 0 |
Saturation | Normal |
SaturationAdjustmentAqua | 0 |
SaturationAdjustmentBlue | 0 |
SaturationAdjustmentGreen | 0 |
SaturationAdjustmentMagenta | 0 |
SaturationAdjustmentOrange | 0 |
SaturationAdjustmentPurple | 0 |
SaturationAdjustmentRed | 0 |
SaturationAdjustmentYellow | 0 |
ScaleFactor35efl | 1.0 |
SceneCaptureType | Standard |
SceneType | Directly photographed |
SensingMethod | One-chip color area |
SerialNumber | 2494521 |
Shadows2012 | 0 |
ShadowTint | 0 |
Sharpness (1) | 0 |
Sharpness | Soft |
ShutterSpeed | 1/8000 |
ShutterSpeedValue | 1/8000 |
Software | Adobe Photoshop 22.5 (Windows) |
SplitToningBalance | 0 |
SplitToningHighlightHue | 0 |
SplitToningHighlightSaturation | 0 |
SplitToningShadowHue | 0 |
SplitToningShadowSaturation | 0 |
SubjectDistance | 7.5 m |
SubjectDistanceRange | Unknown |
Texture | 0 |
Tint | -1 |
ToneCurveName2012 | Linear |
ToneCurvePV2012 | 0, 0, 255, 255 |
ToneCurvePV2012Blue | 0, 0, 255, 255 |
ToneCurvePV2012Green | 0, 0, 255, 255 |
ToneCurvePV2012Red | 0, 0, 255, 255 |
URL | gunnar.liland@gmail.com |
URL_List | |
UsageTerms-x-repair | gunnar.liland@gmail.com |
UserComment | COPYRIGHT:gunnar.liland@gmail.com |
Version | 13.3 |
Vibrance | 0 |
VignetteAmount | 0 |
WebStatement | gunnar.liland@gmail.com |
WhiteBalance (1) | As Shot |
WhiteBalance | Auto |
WhiteLevel | 31093 |
Whites2012 | 0 |