Felt | Verdi |
AlreadyApplied | True |
Aperture | 2.8 |
ApertureValue | 2.8 |
ApproximateFocusDistance | 18.8 |
Artist | Hilde Jordbruen |
AutoLateralCA | 0 |
BitsPerSample | 8 |
Blacks2012 | -88 |
BlueHue | -76 |
BlueSaturation | -38 |
By-line | Hilde Jordbruen |
CameraProfile | Adobe Standard |
CircleOfConfusion | 0.009 mm |
Clarity2012 | +100 |
ColorComponents | 3 |
ColorGradeBlending | 50 |
ColorGradeGlobalHue | 0 |
ColorGradeGlobalLum | 0 |
ColorGradeGlobalSat | 0 |
ColorGradeHighlightLum | 0 |
ColorGradeMidtoneHue | 0 |
ColorGradeMidtoneLum | 0 |
ColorGradeMidtoneSat | 0 |
ColorGradeShadowLum | 0 |
ColorNoiseReduction | 25 |
ColorNoiseReductionDetail | 50 |
ColorNoiseReductionSmoothness | 50 |
ColorSpace | sRGB |
ColorTemperature | 6000 |
ColorTransform | YCbCr |
Contrast2012 | 0 |
Copyright | Hilde Jordbruen |
CopyrightNotice | Hilde Jordbruen |
CreateDate (1) | 2022:10:19 21:07:51.00+02:00 |
CreateDate | 2022:10:19 21:07:51 |
Creator | Hilde Jordbruen |
CreatorAddress | Fotograf Hilde Jordbeun |
CreatorCity | Ringebu |
CreatorCountry | Norway |
CreatorPostalCode | 2630 |
CreatorTool | Adobe Photoshop Lightroom Classic 11.5 (Windows) |
CreatorWorkEmail | hilde.janita@gmail.com |
CreatorWorkURL | http://www.liljen.net |
CropAngle | 0 |
CropBottom | 1 |
CropConstrainToWarp | 0 |
CropLeft | 0 |
CropRight | 1 |
CropTop | 0 |
CustomRendered | Normal |
DateCreated (1) | 2022:10:19 |
DateCreated | 2022:10:19 21:07:51.00+02:00 |
DateTimeOriginal | 2022:10:19 21:07:51 |
Dehaze | +5 |
DOF | 0.42 m (18.59 - 19.01 m) |
Exposure2012 | +0.50 |
ExposureCompensation | 0 |
ExposureMode | Manual |
ExposureProgram | Manual |
ExposureTime | 1/125 |
Firmware | 1.2.1 |
Flash | Off, Did not fire |
FlashCompensation | 0 |
FNumber | 2.8 |
FocalLength | 200.0 mm |
FocalLength35efl | 200.0 mm (35 mm equivalent: 700.0 mm) |
Format | image/jpeg |
FOV | 2.9 deg |
GrainAmount | 0 |
GrayMixerAqua | -24 |
GrayMixerBlue | -20 |
GrayMixerGreen | 0 |
GrayMixerMagenta | +8 |
GrayMixerOrange | -5 |
GrayMixerPurple | +8 |
GrayMixerRed | +10 |
GrayMixerYellow | -7 |
GreenHue | -28 |
GreenSaturation | -22 |
HasCrop | False |
HasSettings | True |
Highlights2012 | -68 |
HyperfocalDistance | 1664.10 m |
ImageHeight | 1920 |
ImageNumber | 0 |
ImageSize | 1280x1920 |
ImageWidth | 1280 |
ISO | 10000 |
Keywords | edinburgh22 |
Lens | TAMRON SP 70-200mm F/2.8 Di VC USD G2 A025 |
LensID (1) | 491 |
LensID | Tamron SP 70-200mm f/2.8 Di VC USD G2 (A025) |
LensInfo | 70-200mm f/? |
LensManualDistortionAmount | 0 |
LensModel | TAMRON SP 70-200mm F/2.8 Di VC USD G2 A025 |
LensProfileEnable | 0 |
LensSerialNumber | 0000000000 |
LightValue | 3.3 |
LookAmount | 1 |
LookGroup | Profiles |
LookName | Adobe Monochrome |
LookParametersCameraProfile | Adobe Standard |
LookParametersClarity2012 | +8 |
LookParametersConvertToGrayscale | True |
LookParametersLookTable | 73ED6C18DDE909DD7EA2D771F5AC282D |
LookParametersProcessVersion | 11.0 |
LookParametersToneCurvePV2012 | 0, 0, 64, 56, 128, 128, 192, 197, 255, 255 |
LookParametersToneCurvePV2012Blue | 0, 0, 255, 255 |
LookParametersToneCurvePV2012Green | 0, 0, 255, 255 |
LookParametersToneCurvePV2012Red | 0, 0, 255, 255 |
LookParametersVersion | 14.5 |
LookSupportsAmount | false |
LookSupportsMonochrome | false |
LookSupportsOutputReferred | false |
LuminanceSmoothing | 0 |
Make | Canon |
MaxApertureValue | 2.8 |
Megapixels | 2.5 |
MeteringMode | Spot |
Model | Canon EOS 5D Mark IV |
ModifyDate (1) | 2022:10:23 02:56:26+02:00 |
ModifyDate | 2022:10:23 02:56:26 |
OverrideLookVignette | False |
OwnerName | Hilde Jordbruen |
ParametricDarks | 0 |
ParametricHighlights | 0 |
ParametricHighlightSplit | 75 |
ParametricLights | 0 |
ParametricMidtoneSplit | 50 |
ParametricShadows | 0 |
ParametricShadowSplit | 25 |
PerspectiveAspect | 0 |
PerspectiveHorizontal | 0 |
PerspectiveRotate | 0.0 |
PerspectiveScale | 100 |
PerspectiveUpright | 1 |
PerspectiveVertical | 0 |
PerspectiveX | 0.00 |
PerspectiveY | 0.00 |
PostCropVignetteAmount | 0 |
PreservedFileName | _JJ_3475.CR2 |
ProcessVersion | 11.0 |
ProfileDescription | sRGB IEC61966-2.1 |
RawFileName | _JJ_3475.CR2 |
RecommendedExposureIndex | 10000 |
RedHue | 0 |
RedSaturation | 0 |
Rights | Hilde Jordbruen |
ScaleFactor35efl | 3.5 |
SceneCaptureType | Standard |
SensitivityType | Recommended Exposure Index |
SerialNumber | 143055000266 |
Shadows2012 | +80 |
ShadowTint | +3 |
SharpenDetail | 70 |
SharpenEdgeMasking | 50 |
SharpenRadius | +1.0 |
Sharpness | 15 |
ShutterSpeed | 1/125 |
ShutterSpeedValue | 1/125 |
Software | Adobe Photoshop Lightroom Classic 11.5 (Windows) |
SplitToningBalance | 0 |
SplitToningHighlightHue | 0 |
SplitToningHighlightSaturation | 0 |
SplitToningShadowHue | 0 |
SplitToningShadowSaturation | 0 |
Subject | edinburgh22 |
Texture | 0 |
Tint | +15 |
ToneCurveName2012 | Medium Contrast |
ToneCurvePV2012 | 0, 0, 32, 22, 64, 56, 128, 128, 192, 196, 255, 255 |
ToneCurvePV2012Blue | 0, 0, 255, 255 |
ToneCurvePV2012Green | 0, 0, 255, 255 |
ToneCurvePV2012Red | 0, 0, 255, 255 |
Version | 14.5 |
VignetteAmount | 0 |
WeightedFlatSubject | edinburgh22 |
WhiteBalance (1) | Custom |
WhiteBalance | Auto |
Whites2012 | -4 |